BEGIN:VCALENDAR
VERSION:2.0
PRODID:-//NSPS - ECPv6.15.17.1//NONSGML v1.0//EN
CALSCALE:GREGORIAN
METHOD:PUBLISH
X-ORIGINAL-URL:https://shetlandponystamboek.nl
X-WR-CALDESC:Evenementen voor NSPS
REFRESH-INTERVAL;VALUE=DURATION:PT1H
X-Robots-Tag:noindex
X-PUBLISHED-TTL:PT1H
BEGIN:VTIMEZONE
TZID:Europe/Amsterdam
BEGIN:DAYLIGHT
TZOFFSETFROM:+0100
TZOFFSETTO:+0200
TZNAME:CEST
DTSTART:20150329T010000
END:DAYLIGHT
BEGIN:STANDARD
TZOFFSETFROM:+0200
TZOFFSETTO:+0100
TZNAME:CET
DTSTART:20151025T010000
END:STANDARD
BEGIN:DAYLIGHT
TZOFFSETFROM:+0100
TZOFFSETTO:+0200
TZNAME:CEST
DTSTART:20160327T010000
END:DAYLIGHT
BEGIN:STANDARD
TZOFFSETFROM:+0200
TZOFFSETTO:+0100
TZNAME:CET
DTSTART:20161030T010000
END:STANDARD
BEGIN:DAYLIGHT
TZOFFSETFROM:+0100
TZOFFSETTO:+0200
TZNAME:CEST
DTSTART:20170326T010000
END:DAYLIGHT
BEGIN:STANDARD
TZOFFSETFROM:+0200
TZOFFSETTO:+0100
TZNAME:CET
DTSTART:20171029T010000
END:STANDARD
END:VTIMEZONE
BEGIN:VEVENT
DTSTART;TZID=Europe/Amsterdam:20160615T200000
DTEND;TZID=Europe/Amsterdam:20160615T220000
DTSTAMP:20260425T171953
CREATED:20160425T135053Z
LAST-MODIFIED:20160612T192651Z
UID:4602-1466020800-1466028000@shetlandponystamboek.nl
SUMMARY:Overleg HB - Inspectieteams
DESCRIPTION:Evaluatie S-opname 2016
URL:https://shetlandponystamboek.nl/evenement/overleg-hb-inspectieteams/
LOCATION:Manege de Nieuwe Heuvel\, Oude Arnhemseweg 101\, Lunteren\, Gelderland\, 6741EC\, Nederland
CATEGORIES:Vergaderingen
END:VEVENT
END:VCALENDAR