BEGIN:VCALENDAR
VERSION:2.0
PRODID:-//NSPS - ECPv6.15.17.1//NONSGML v1.0//EN
CALSCALE:GREGORIAN
METHOD:PUBLISH
X-WR-CALNAME:NSPS
X-ORIGINAL-URL:https://shetlandponystamboek.nl
X-WR-CALDESC:Evenementen voor NSPS
REFRESH-INTERVAL;VALUE=DURATION:PT1H
X-Robots-Tag:noindex
X-PUBLISHED-TTL:PT1H
BEGIN:VTIMEZONE
TZID:Europe/Amsterdam
BEGIN:DAYLIGHT
TZOFFSETFROM:+0100
TZOFFSETTO:+0200
TZNAME:CEST
DTSTART:20250330T010000
END:DAYLIGHT
BEGIN:STANDARD
TZOFFSETFROM:+0200
TZOFFSETTO:+0100
TZNAME:CET
DTSTART:20251026T010000
END:STANDARD
BEGIN:DAYLIGHT
TZOFFSETFROM:+0100
TZOFFSETTO:+0200
TZNAME:CEST
DTSTART:20260329T010000
END:DAYLIGHT
BEGIN:STANDARD
TZOFFSETFROM:+0200
TZOFFSETTO:+0100
TZNAME:CET
DTSTART:20261025T010000
END:STANDARD
BEGIN:DAYLIGHT
TZOFFSETFROM:+0100
TZOFFSETTO:+0200
TZNAME:CEST
DTSTART:20270328T010000
END:DAYLIGHT
BEGIN:STANDARD
TZOFFSETFROM:+0200
TZOFFSETTO:+0100
TZNAME:CET
DTSTART:20271031T010000
END:STANDARD
END:VTIMEZONE
BEGIN:VEVENT
DTSTART;TZID=Europe/Amsterdam:20260502T103000
DTEND;TZID=Europe/Amsterdam:20260502T140000
DTSTAMP:20260420T190100
CREATED:20260129T084109Z
LAST-MODIFIED:20260129T084109Z
UID:30050-1777717800-1777730400@shetlandponystamboek.nl
SUMMARY:Voorjaars ALV
DESCRIPTION:
URL:https://shetlandponystamboek.nl/evenement/voorjaars-alv/
LOCATION:Gelderland
CATEGORIES:Vergaderingen
END:VEVENT
BEGIN:VEVENT
DTSTART;TZID=Europe/Amsterdam:20260501T140000
DTEND;TZID=Europe/Amsterdam:20260501T180000
DTSTAMP:20260420T190100
CREATED:20260205T111907Z
LAST-MODIFIED:20260205T111907Z
UID:30166-1777644000-1777658400@shetlandponystamboek.nl
SUMMARY:Stamboekopname Valburg
DESCRIPTION:
URL:https://shetlandponystamboek.nl/evenement/stamboekopname-valburg-8/
LOCATION:M.T.A. Kramp\, Parallelweg Noord 5a\, Valburg\, 6675NC\, Nederland
CATEGORIES:Stamboekopname
END:VEVENT
BEGIN:VEVENT
DTSTART;VALUE=DATE:20260427
DTEND;VALUE=DATE:20260428
DTSTAMP:20260420T190100
CREATED:20260129T081225Z
LAST-MODIFIED:20260129T081315Z
UID:30040-1777248000-1777334399@shetlandponystamboek.nl
SUMMARY:Oranjeconcours De Bilt
DESCRIPTION:Op 27 april is het weer Koningsdag en zal het Oranjeconcours voor de 43e keer plaatsinden. Ook dit jaar worden er naast de diverse rubrieken voor Tuigpaarden\, Hackneys en Friezen rubrieken voor Shetlanders uitgeschreven. Er worden rubrieken verreden voor enkelspannen\, tweespannen en enkelspannen gereden door dames. \nDe rubriek enkelspan telt tevens mee voor de landelijke competitie van dit jaar. Ook hengsten mogen deelnemen aan de genoemde rubrieken\, zij ontvangen echter geen competitiepunten in de enkelspanrubriek(en). Bij het damesnummer zal er een extra prijs voor het schoonste geheel worden uitgereikt. Rubrieken gaan alleen door bij voldoende deelname. \nDeelnemers parkeren bij het Poonawalla Science Park\, waar bij de doorgang naar het wedstrijdterrein ook een losrijbaan ligt. Het wedstrijdterrein is te vinden aan de Soestdijkseweg Zuid te Bilthoven\, tegenover het gemeentehuis Jagtlust. Er is voldoende parkeergelegenheid voor bezoekers. Toegang tot het terrein is gratis. Naast het Oranjeconcours zijn er ook activiteiten van de Oranjevereniging De Bilt/Bilthoven op het terrein te vinden. \nInschrijven kan tot uiterlijk 31 maart door een mail te sturen aan sport@nsps.nl. Bij opgave graag de naam en het competitienummer van de pony(’s) en de contactgegevens van de eigenaar vermelden. \nMeer informatie over het concours kunt u vinden op www.oranjeconcours.nl
URL:https://shetlandponystamboek.nl/evenement/oranjeconcours-de-bilt-7/
LOCATION:De Bilt\, Soestdijkseweg Zuid\,  Bilthoven\, Nederland
CATEGORIES:Sport en Recreatie
END:VEVENT
BEGIN:VEVENT
DTSTART;TZID=Europe/Amsterdam:20260418T133000
DTEND;TZID=Europe/Amsterdam:20260418T153000
DTSTAMP:20260420T190100
CREATED:20260205T111449Z
LAST-MODIFIED:20260205T111449Z
UID:30160-1776519000-1776526200@shetlandponystamboek.nl
SUMMARY:Stamboekopname Ijzendoorn
DESCRIPTION:
URL:https://shetlandponystamboek.nl/evenement/stamboekopname-ijzendoorn-9/
LOCATION:A. v. Asch\, Zondagsestraatje 2\, IJzendoorn\, 4053JG\, Nederland
CATEGORIES:Stamboekopname
END:VEVENT
BEGIN:VEVENT
DTSTART;TZID=Europe/Amsterdam:20260418T130000
DTEND;TZID=Europe/Amsterdam:20260418T163000
DTSTAMP:20260420T190100
CREATED:20260205T111649Z
LAST-MODIFIED:20260205T112145Z
UID:30164-1776517200-1776529800@shetlandponystamboek.nl
SUMMARY:Stamboekopname St. Oedenrode (Oost-Brabant)
DESCRIPTION:
URL:https://shetlandponystamboek.nl/evenement/stamboekopname-st-oederode/
LOCATION:Manege De Pijnhorst\, Bremhorst 6\, St. Oedenrode\, 5491LR\, Nederland
CATEGORIES:Stamboekopname
END:VEVENT
BEGIN:VEVENT
DTSTART;TZID=Europe/Amsterdam:20260418T090000
DTEND;TZID=Europe/Amsterdam:20260418T120000
DTSTAMP:20260420T190100
CREATED:20260205T111528Z
LAST-MODIFIED:20260205T111528Z
UID:30162-1776502800-1776513600@shetlandponystamboek.nl
SUMMARY:Stamboekopname Bemmel
DESCRIPTION:
URL:https://shetlandponystamboek.nl/evenement/stamboekopname-bemmel-7/
LOCATION:Buurman Planten Export\, Nijverheidsstraat 43\, Bemmel\, 6681LN\, Nederland
CATEGORIES:Stamboekopname
END:VEVENT
BEGIN:VEVENT
DTSTART;TZID=Europe/Amsterdam:20260418T090000
DTEND;TZID=Europe/Amsterdam:20260418T120000
DTSTAMP:20260420T190100
CREATED:20260205T111352Z
LAST-MODIFIED:20260205T111352Z
UID:30158-1776502800-1776513600@shetlandponystamboek.nl
SUMMARY:Stamboekopname Beesd
DESCRIPTION:
URL:https://shetlandponystamboek.nl/evenement/stamboekopname-beesd-9/
LOCATION:Fam. G. v.d. Biesebos\, Katijdeweg 11\, Beesd\, 4153RE\, Nederland
CATEGORIES:Stamboekopname
END:VEVENT
BEGIN:VEVENT
DTSTART;TZID=Europe/Amsterdam:20260411T153000
DTEND;TZID=Europe/Amsterdam:20260411T170000
DTSTAMP:20260420T190100
CREATED:20260205T111302Z
LAST-MODIFIED:20260205T111302Z
UID:30156-1775921400-1775926800@shetlandponystamboek.nl
SUMMARY:Stamboekopname Hemrik
DESCRIPTION:
URL:https://shetlandponystamboek.nl/evenement/stamboekopname-hemrik-2/
LOCATION:Stoeterij het Swarte Peart\, Binnenwei 13A\, Hemrik\, 8409JG
CATEGORIES:Stamboekopname
END:VEVENT
BEGIN:VEVENT
DTSTART;TZID=Europe/Amsterdam:20260411T150000
DTEND;TZID=Europe/Amsterdam:20260411T170000
DTSTAMP:20260420T190100
CREATED:20260205T111027Z
LAST-MODIFIED:20260205T111027Z
UID:30150-1775919600-1775926800@shetlandponystamboek.nl
SUMMARY:Stamboekopname Kootwijkerbroek
DESCRIPTION:
URL:https://shetlandponystamboek.nl/evenement/stamboekopname-kootwijkerbroek-4/
LOCATION:Fam. v.d. Berg\, Esvelderweg 16\, Kootwijkerbroek\, 3774PD
CATEGORIES:Stamboekopname
END:VEVENT
BEGIN:VEVENT
DTSTART;TZID=Europe/Amsterdam:20260411T130000
DTEND;TZID=Europe/Amsterdam:20260411T140000
DTSTAMP:20260420T190100
CREATED:20260205T110911Z
LAST-MODIFIED:20260205T110911Z
UID:30147-1775912400-1775916000@shetlandponystamboek.nl
SUMMARY:Stamboekopname Utrecht
DESCRIPTION:Birkstraat 109\, 3768\nHD Soest\, Ingang\nterrein: via Peter v.\nden Breemerweg\ntegenover nr. 7
URL:https://shetlandponystamboek.nl/evenement/stamboekopname-utrecht/
LOCATION:Birkstraat 109\, Birkstraat 109\, Soest\, 3768hd
CATEGORIES:Stamboekopname
END:VEVENT
BEGIN:VEVENT
DTSTART;TZID=Europe/Amsterdam:20260411T123000
DTEND;TZID=Europe/Amsterdam:20260411T143000
DTSTAMP:20260420T190100
CREATED:20260205T111156Z
LAST-MODIFIED:20260205T111223Z
UID:30154-1775910600-1775917800@shetlandponystamboek.nl
SUMMARY:Stamboekopname Tolbert
DESCRIPTION:
URL:https://shetlandponystamboek.nl/evenement/stamboekopname-tolbert-5/
LOCATION:HJC-Manege\, Hoofdstraat 53\, Tolbert\, 9356AV\, Nederland
CATEGORIES:Stamboekopname
END:VEVENT
BEGIN:VEVENT
DTSTART;TZID=Europe/Amsterdam:20260411T090000
DTEND;TZID=Europe/Amsterdam:20260411T120000
DTSTAMP:20260420T190100
CREATED:20260205T110509Z
LAST-MODIFIED:20260205T110509Z
UID:30145-1775898000-1775908800@shetlandponystamboek.nl
SUMMARY:Stamboekopname Rijsenhout
DESCRIPTION:
URL:https://shetlandponystamboek.nl/evenement/stamboekopname-rijsenhout-5/
LOCATION:Stal v.d. Valkenhof\, Aalsmeerderweg 861 (Poort 'Bak' is de toegangspoort)\, Rijssenhout\, 1435EP
CATEGORIES:Stamboekopname
END:VEVENT
BEGIN:VEVENT
DTSTART;TZID=Europe/Amsterdam:20260411T090000
DTEND;TZID=Europe/Amsterdam:20260411T110000
DTSTAMP:20260420T190100
CREATED:20260205T111110Z
LAST-MODIFIED:20260205T111110Z
UID:30152-1775898000-1775905200@shetlandponystamboek.nl
SUMMARY:Stamboekopname Onstwedde
DESCRIPTION:
URL:https://shetlandponystamboek.nl/evenement/stamboekopname-onstwedde-5/
LOCATION:Manege de Driesporen\, Wessinghuizerweg 4B\, Onstwedde\, 9591VJ\, Nederland
CATEGORIES:Stamboekopname
END:VEVENT
BEGIN:VEVENT
DTSTART;TZID=Europe/Amsterdam:20260404T133000
DTEND;TZID=Europe/Amsterdam:20260404T160000
DTSTAMP:20260420T190100
CREATED:20260205T105948Z
LAST-MODIFIED:20260205T105948Z
UID:30133-1775309400-1775318400@shetlandponystamboek.nl
SUMMARY:Stamboekopname Norg
DESCRIPTION:
URL:https://shetlandponystamboek.nl/evenement/stamboekopname-norg-6/
LOCATION:Manege Norg\, Kerkpad 4\, Norg
CATEGORIES:Stamboekopname
END:VEVENT
BEGIN:VEVENT
DTSTART;TZID=Europe/Amsterdam:20260404T130000
DTEND;TZID=Europe/Amsterdam:20260404T173000
DTSTAMP:20260420T190100
CREATED:20260205T110336Z
LAST-MODIFIED:20260205T110336Z
UID:30143-1775307600-1775323800@shetlandponystamboek.nl
SUMMARY:Stamboekopname Someren
DESCRIPTION:
URL:https://shetlandponystamboek.nl/evenement/stamboekopname-someren-5/
LOCATION:Gelderland
CATEGORIES:Stamboekopname
END:VEVENT
BEGIN:VEVENT
DTSTART;TZID=Europe/Amsterdam:20260404T123000
DTEND;TZID=Europe/Amsterdam:20260404T150000
DTSTAMP:20260420T190100
CREATED:20260205T110216Z
LAST-MODIFIED:20260205T110216Z
UID:30139-1775305800-1775314800@shetlandponystamboek.nl
SUMMARY:Stamboekopname Klarenbeek
DESCRIPTION:
URL:https://shetlandponystamboek.nl/evenement/stamboekopname-klarenbeek-9/
LOCATION:A.M. Wilbrink\, Clabanusweg 20\, Klarenbeek\, 7382DB\, Nederland
CATEGORIES:Stamboekopname
END:VEVENT
BEGIN:VEVENT
DTSTART;TZID=Europe/Amsterdam:20260404T100000
DTEND;TZID=Europe/Amsterdam:20260404T120000
DTSTAMP:20260420T190100
CREATED:20260205T105914Z
LAST-MODIFIED:20260205T105914Z
UID:30131-1775296800-1775304000@shetlandponystamboek.nl
SUMMARY:Stamboekopname Zweeloo
DESCRIPTION:
URL:https://shetlandponystamboek.nl/evenement/stamboekopname-zweeloo-9/
LOCATION:Manege Alterbergruiters\, Hoofdstraat 28\, Zweeloo\, 7851AA\, Nederland
CATEGORIES:Stamboekopname
END:VEVENT
BEGIN:VEVENT
DTSTART;TZID=Europe/Amsterdam:20260404T090000
DTEND;TZID=Europe/Amsterdam:20260404T130000
DTSTAMP:20260420T190100
CREATED:20260205T110025Z
LAST-MODIFIED:20260205T110025Z
UID:30135-1775293200-1775307600@shetlandponystamboek.nl
SUMMARY:Stamboekopname Bergharen
DESCRIPTION:
URL:https://shetlandponystamboek.nl/evenement/stamboekopname-bergharen-9/
LOCATION:Stichting de Rijhal\, Dorpsstraat 13\, Bergharen\, 6617AB\, Nederland
CATEGORIES:Stamboekopname
END:VEVENT
BEGIN:VEVENT
DTSTART;TZID=Europe/Amsterdam:20260404T090000
DTEND;TZID=Europe/Amsterdam:20260404T113000
DTSTAMP:20260420T190100
CREATED:20260205T110302Z
LAST-MODIFIED:20260205T110302Z
UID:30141-1775293200-1775302200@shetlandponystamboek.nl
SUMMARY:Stamboekopname Grathem
DESCRIPTION:
URL:https://shetlandponystamboek.nl/evenement/stamboekopname-grathem-2/
LOCATION:Dhr. A. Snijkers\, Kuiperweg 1B\, Grathem\, 6096BN
CATEGORIES:Stamboekopname
END:VEVENT
BEGIN:VEVENT
DTSTART;TZID=Europe/Amsterdam:20260404T090000
DTEND;TZID=Europe/Amsterdam:20260404T110000
DTSTAMP:20260420T190100
CREATED:20260205T110127Z
LAST-MODIFIED:20260205T110127Z
UID:30137-1775293200-1775300400@shetlandponystamboek.nl
SUMMARY:Stamboekopname Raalte
DESCRIPTION:
URL:https://shetlandponystamboek.nl/evenement/stamboekopname-raalte-2/
LOCATION:Jansen Wijhe\, Heetenseweg 4\, Raalte\, Overijssel\, 8102PE\, Netherlands
CATEGORIES:Stamboekopname
END:VEVENT
BEGIN:VEVENT
DTSTART;TZID=Europe/Amsterdam:20260328T140000
DTEND;TZID=Europe/Amsterdam:20260328T180000
DTSTAMP:20260420T190100
CREATED:20260205T105833Z
LAST-MODIFIED:20260205T105833Z
UID:30129-1774706400-1774720800@shetlandponystamboek.nl
SUMMARY:Stamboekopname Kaatsheuvel
DESCRIPTION:
URL:https://shetlandponystamboek.nl/evenement/stamboekopname-kaatsheuvel-9/
LOCATION:Fam. v. Os\, Rechtvaart 11\, Kaatsheuvel\, 5171TA\, Nederland
CATEGORIES:Stamboekopname
END:VEVENT
BEGIN:VEVENT
DTSTART;TZID=Europe/Amsterdam:20260328T080000
DTEND;TZID=Europe/Amsterdam:20260328T130000
DTSTAMP:20260420T190100
CREATED:20260205T105745Z
LAST-MODIFIED:20260205T105745Z
UID:30127-1774684800-1774702800@shetlandponystamboek.nl
SUMMARY:Stamboekopname Nederhemert
DESCRIPTION:
URL:https://shetlandponystamboek.nl/evenement/stamboekopname-nederhemert-6/
LOCATION:Fam. Keijnemans\, Nieuwstraat 22\, Nederhemert\, 5317 JA\, Nederland
CATEGORIES:Stamboekopname
END:VEVENT
BEGIN:VEVENT
DTSTART;TZID=Europe/Amsterdam:20260327T130000
DTEND;TZID=Europe/Amsterdam:20260327T163000
DTSTAMP:20260420T190100
CREATED:20260205T105548Z
LAST-MODIFIED:20260205T105612Z
UID:30125-1774616400-1774629000@shetlandponystamboek.nl
SUMMARY:Stamboekopname Smakt
DESCRIPTION:
URL:https://shetlandponystamboek.nl/evenement/stamboekopname-smakt-8/
LOCATION:Fam. Bonants\, Pelgrimlaan 15\, Smakt\, 5817AG\, Nederland
CATEGORIES:Stamboekopname
END:VEVENT
BEGIN:VEVENT
DTSTART;TZID=Europe/Amsterdam:20260321T140000
DTEND;TZID=Europe/Amsterdam:20260321T170000
DTSTAMP:20260420T190100
CREATED:20260205T105353Z
LAST-MODIFIED:20260205T105353Z
UID:30123-1774101600-1774112400@shetlandponystamboek.nl
SUMMARY:Stamboekopname Etten-Leur
DESCRIPTION:
URL:https://shetlandponystamboek.nl/evenement/stamboekopname-etten-leur-8/
LOCATION:Manege ’t Sander\, Sander 13\, Etten-Leur\, 4871NA\, Nederland
CATEGORIES:Stamboekopname
END:VEVENT
BEGIN:VEVENT
DTSTART;TZID=Europe/Amsterdam:20260321T113000
DTEND;TZID=Europe/Amsterdam:20260321T123000
DTSTAMP:20260420T190100
CREATED:20260205T105257Z
LAST-MODIFIED:20260205T105257Z
UID:30121-1774092600-1774096200@shetlandponystamboek.nl
SUMMARY:Stamboekopname Poortvliet
DESCRIPTION:
URL:https://shetlandponystamboek.nl/evenement/stamboekopname-poortvliet-5/
LOCATION:Ten Cate Products\, Nieuweweg 8\, Poortvliet\, 4693 PN\, Nederland
CATEGORIES:Stamboekopname
END:VEVENT
BEGIN:VEVENT
DTSTART;TZID=Europe/Amsterdam:20260321T090000
DTEND;TZID=Europe/Amsterdam:20260321T103000
DTSTAMP:20260420T190100
CREATED:20260205T102515Z
LAST-MODIFIED:20260205T102515Z
UID:30119-1774083600-1774089000@shetlandponystamboek.nl
SUMMARY:Stamboekopname Vierpolders
DESCRIPTION:
URL:https://shetlandponystamboek.nl/evenement/stamboekopname-vierpolders-6/
LOCATION:Fam. Verheul\, Prinsenweg 1c\, Vierpolders\, Nederland
CATEGORIES:Stamboekopname
END:VEVENT
BEGIN:VEVENT
DTSTART;TZID=Europe/Amsterdam:20260314T133000
DTEND;TZID=Europe/Amsterdam:20260314T160000
DTSTAMP:20260420T190100
CREATED:20260205T101453Z
LAST-MODIFIED:20260205T102416Z
UID:30114-1773495000-1773504000@shetlandponystamboek.nl
SUMMARY:Stamboekopname Ambt-Delden
DESCRIPTION:
URL:https://shetlandponystamboek.nl/evenement/stamboekopname-ambt-delden-6/
LOCATION:Manege de Hoffmeijer\, Hoffmeijerweg 10\, Ambt Delden\, 7495RZ\, Nederland
CATEGORIES:Stamboekopname
END:VEVENT
BEGIN:VEVENT
DTSTART;TZID=Europe/Amsterdam:20260314T090000
DTEND;TZID=Europe/Amsterdam:20260314T130000
DTSTAMP:20260420T190100
CREATED:20260205T101832Z
LAST-MODIFIED:20260205T112212Z
UID:30117-1773478800-1773493200@shetlandponystamboek.nl
SUMMARY:Stamboekopname St. Oedenrode (Midden-Brabant)
DESCRIPTION:
URL:https://shetlandponystamboek.nl/evenement/stamboekopname-st-oedenrode-6/
LOCATION:Manege De Pijnhorst\, Bremhorst 6\, St. Oedenrode\, 5491LR\, Nederland
CATEGORIES:Stamboekopname
END:VEVENT
BEGIN:VEVENT
DTSTART;TZID=Europe/Amsterdam:20260314T083000
DTEND;TZID=Europe/Amsterdam:20260314T120000
DTSTAMP:20260420T190100
CREATED:20260205T101402Z
LAST-MODIFIED:20260205T101534Z
UID:30112-1773477000-1773489600@shetlandponystamboek.nl
SUMMARY:Stamboekopname Ulft
DESCRIPTION:
URL:https://shetlandponystamboek.nl/evenement/stamboek-opname-ulft/
LOCATION:Hendriksen Prefab b.v.\, De Stenenmaat 2\, Ulft\, 7071ED\, Nederland
CATEGORIES:Stamboekopname
END:VEVENT
BEGIN:VEVENT
DTSTART;TZID=Europe/Amsterdam:20260314T080000
DTEND;TZID=Europe/Amsterdam:20260314T170000
DTSTAMP:20260420T190100
CREATED:20260129T103526Z
LAST-MODIFIED:20260129T103526Z
UID:30065-1773475200-1773507600@shetlandponystamboek.nl
SUMMARY:Indoor Wedstrijddag in Overasselt
DESCRIPTION:
URL:https://shetlandponystamboek.nl/evenement/indoor-wedstrijddag-in-overasselt/
LOCATION:Manege St. Waldrick\, Ewijkseweg 13\, Overasselt\, 6611AG\, Nederland
CATEGORIES:Sport en Recreatie
END:VEVENT
END:VCALENDAR