BEGIN:VCALENDAR
VERSION:2.0
PRODID:-//NSPS - ECPv6.15.17.1//NONSGML v1.0//EN
CALSCALE:GREGORIAN
METHOD:PUBLISH
X-ORIGINAL-URL:https://shetlandponystamboek.nl
X-WR-CALDESC:Evenementen voor NSPS
REFRESH-INTERVAL;VALUE=DURATION:PT1H
X-Robots-Tag:noindex
X-PUBLISHED-TTL:PT1H
BEGIN:VTIMEZONE
TZID:Europe/Amsterdam
BEGIN:DAYLIGHT
TZOFFSETFROM:+0100
TZOFFSETTO:+0200
TZNAME:CEST
DTSTART:20250330T010000
END:DAYLIGHT
BEGIN:STANDARD
TZOFFSETFROM:+0200
TZOFFSETTO:+0100
TZNAME:CET
DTSTART:20251026T010000
END:STANDARD
BEGIN:DAYLIGHT
TZOFFSETFROM:+0100
TZOFFSETTO:+0200
TZNAME:CEST
DTSTART:20260329T010000
END:DAYLIGHT
BEGIN:STANDARD
TZOFFSETFROM:+0200
TZOFFSETTO:+0100
TZNAME:CET
DTSTART:20261025T010000
END:STANDARD
BEGIN:DAYLIGHT
TZOFFSETFROM:+0100
TZOFFSETTO:+0200
TZNAME:CEST
DTSTART:20270328T010000
END:DAYLIGHT
BEGIN:STANDARD
TZOFFSETFROM:+0200
TZOFFSETTO:+0100
TZNAME:CET
DTSTART:20271031T010000
END:STANDARD
END:VTIMEZONE
BEGIN:VEVENT
DTSTART;TZID=Europe/Amsterdam:20260314T080000
DTEND;TZID=Europe/Amsterdam:20260314T170000
DTSTAMP:20260420T230127
CREATED:20260129T103526Z
LAST-MODIFIED:20260129T103526Z
UID:30065-1773475200-1773507600@shetlandponystamboek.nl
SUMMARY:Indoor Wedstrijddag in Overasselt
DESCRIPTION:
URL:https://shetlandponystamboek.nl/evenement/indoor-wedstrijddag-in-overasselt/
LOCATION:Manege St. Waldrick\, Ewijkseweg 13\, Overasselt\, 6611AG\, Nederland
CATEGORIES:Sport en Recreatie
END:VEVENT
BEGIN:VEVENT
DTSTART;VALUE=DATE:20260427
DTEND;VALUE=DATE:20260428
DTSTAMP:20260420T230127
CREATED:20260129T081225Z
LAST-MODIFIED:20260129T081315Z
UID:30040-1777248000-1777334399@shetlandponystamboek.nl
SUMMARY:Oranjeconcours De Bilt
DESCRIPTION:Op 27 april is het weer Koningsdag en zal het Oranjeconcours voor de 43e keer plaatsinden. Ook dit jaar worden er naast de diverse rubrieken voor Tuigpaarden\, Hackneys en Friezen rubrieken voor Shetlanders uitgeschreven. Er worden rubrieken verreden voor enkelspannen\, tweespannen en enkelspannen gereden door dames. \nDe rubriek enkelspan telt tevens mee voor de landelijke competitie van dit jaar. Ook hengsten mogen deelnemen aan de genoemde rubrieken\, zij ontvangen echter geen competitiepunten in de enkelspanrubriek(en). Bij het damesnummer zal er een extra prijs voor het schoonste geheel worden uitgereikt. Rubrieken gaan alleen door bij voldoende deelname. \nDeelnemers parkeren bij het Poonawalla Science Park\, waar bij de doorgang naar het wedstrijdterrein ook een losrijbaan ligt. Het wedstrijdterrein is te vinden aan de Soestdijkseweg Zuid te Bilthoven\, tegenover het gemeentehuis Jagtlust. Er is voldoende parkeergelegenheid voor bezoekers. Toegang tot het terrein is gratis. Naast het Oranjeconcours zijn er ook activiteiten van de Oranjevereniging De Bilt/Bilthoven op het terrein te vinden. \nInschrijven kan tot uiterlijk 31 maart door een mail te sturen aan sport@nsps.nl. Bij opgave graag de naam en het competitienummer van de pony(’s) en de contactgegevens van de eigenaar vermelden. \nMeer informatie over het concours kunt u vinden op www.oranjeconcours.nl
URL:https://shetlandponystamboek.nl/evenement/oranjeconcours-de-bilt-7/
LOCATION:De Bilt\, Soestdijkseweg Zuid\,  Bilthoven\, Nederland
CATEGORIES:Sport en Recreatie
END:VEVENT
BEGIN:VEVENT
DTSTART;TZID=Europe/Amsterdam:20260503T080000
DTEND;TZID=Europe/Amsterdam:20260503T170000
DTSTAMP:20260420T230127
CREATED:20260129T104141Z
LAST-MODIFIED:20260129T104141Z
UID:30070-1777795200-1777827600@shetlandponystamboek.nl
SUMMARY:RAD-gala Vlijmen
DESCRIPTION:
URL:https://shetlandponystamboek.nl/evenement/rad-gala-vlijmen/
CATEGORIES:Sport en Recreatie
END:VEVENT
BEGIN:VEVENT
DTSTART;TZID=Europe/Amsterdam:20260514T080000
DTEND;TZID=Europe/Amsterdam:20260514T170000
DTSTAMP:20260420T230127
CREATED:20260129T104238Z
LAST-MODIFIED:20260129T104238Z
UID:30072-1778745600-1778778000@shetlandponystamboek.nl
SUMMARY:CH Grootegast
DESCRIPTION:
URL:https://shetlandponystamboek.nl/evenement/ch-grootegast/
CATEGORIES:Sport en Recreatie
END:VEVENT
BEGIN:VEVENT
DTSTART;TZID=Europe/Amsterdam:20260606T080000
DTEND;TZID=Europe/Amsterdam:20260606T170000
DTSTAMP:20260420T230127
CREATED:20260129T104444Z
LAST-MODIFIED:20260129T104444Z
UID:30074-1780732800-1780765200@shetlandponystamboek.nl
SUMMARY:Concours Zijtaart
DESCRIPTION:
URL:https://shetlandponystamboek.nl/evenement/concours-zijtaart/
CATEGORIES:Sport en Recreatie
END:VEVENT
BEGIN:VEVENT
DTSTART;TZID=Europe/Amsterdam:20260614T080000
DTEND;TZID=Europe/Amsterdam:20260614T170000
DTSTAMP:20260420T230127
CREATED:20260129T104507Z
LAST-MODIFIED:20260129T104507Z
UID:30076-1781424000-1781456400@shetlandponystamboek.nl
SUMMARY:CH Diever
DESCRIPTION:
URL:https://shetlandponystamboek.nl/evenement/ch-diever/
CATEGORIES:Sport en Recreatie
END:VEVENT
BEGIN:VEVENT
DTSTART;TZID=Europe/Amsterdam:20260627T080000
DTEND;TZID=Europe/Amsterdam:20260627T170000
DTSTAMP:20260420T230127
CREATED:20260129T104547Z
LAST-MODIFIED:20260129T104547Z
UID:30078-1782547200-1782579600@shetlandponystamboek.nl
SUMMARY:Outdoor wedstrijddag NSPS Bunschoten - NK  Dames
DESCRIPTION:
URL:https://shetlandponystamboek.nl/evenement/outdoor-wedstrijddag-nsps-bunschoten-nk-dames/
CATEGORIES:Sport en Recreatie
END:VEVENT
BEGIN:VEVENT
DTSTART;TZID=Europe/Amsterdam:20260718T080000
DTEND;TZID=Europe/Amsterdam:20260718T170000
DTSTAMP:20260420T230127
CREATED:20260129T104614Z
LAST-MODIFIED:20260129T104627Z
UID:30080-1784361600-1784394000@shetlandponystamboek.nl
SUMMARY:Concours de Gouden Bolhoed Houten - NK Dubbelspan
DESCRIPTION:
URL:https://shetlandponystamboek.nl/evenement/concours-de-gouden-bolhoed-houten-nk-dubbelspan/
CATEGORIES:Sport en Recreatie
END:VEVENT
BEGIN:VEVENT
DTSTART;TZID=Europe/Amsterdam:20260822T080000
DTEND;TZID=Europe/Amsterdam:20260822T170000
DTSTAMP:20260420T230127
CREATED:20260129T104856Z
LAST-MODIFIED:20260129T104856Z
UID:30088-1787385600-1787418000@shetlandponystamboek.nl
SUMMARY:CH Tolbert (ONDER VOORBEHOUD) - NK Tandems
DESCRIPTION:
URL:https://shetlandponystamboek.nl/evenement/ch-tolbert-onder-voorbehoud-nk-tandems/
CATEGORIES:Sport en Recreatie
END:VEVENT
BEGIN:VEVENT
DTSTART;TZID=Europe/Amsterdam:20261017T080000
DTEND;TZID=Europe/Amsterdam:20261017T170000
DTSTAMP:20260420T230127
CREATED:20260129T104706Z
LAST-MODIFIED:20260129T104706Z
UID:30082-1792224000-1792256400@shetlandponystamboek.nl
SUMMARY:Nederlands kampioenschap Enkelspan Lunteren
DESCRIPTION:
URL:https://shetlandponystamboek.nl/evenement/nederlands-kampioenschap-enkelspan-lunteren/
CATEGORIES:Sport en Recreatie
END:VEVENT
BEGIN:VEVENT
DTSTART;TZID=Europe/Amsterdam:20261024T080000
DTEND;TZID=Europe/Amsterdam:20261024T170000
DTSTAMP:20260420T230127
CREATED:20260129T104748Z
LAST-MODIFIED:20260129T104748Z
UID:30084-1792828800-1792861200@shetlandponystamboek.nl
SUMMARY:Indoor wedstrijddag
DESCRIPTION:
URL:https://shetlandponystamboek.nl/evenement/indoor-wedstrijddag/
CATEGORIES:Sport en Recreatie
END:VEVENT
BEGIN:VEVENT
DTSTART;TZID=Europe/Amsterdam:20261121T080000
DTEND;TZID=Europe/Amsterdam:20261121T170000
DTSTAMP:20260420T230127
CREATED:20260129T104819Z
LAST-MODIFIED:20260129T104819Z
UID:30086-1795248000-1795280400@shetlandponystamboek.nl
SUMMARY:ABOP
DESCRIPTION:
URL:https://shetlandponystamboek.nl/evenement/abop-3/
CATEGORIES:Sport en Recreatie
END:VEVENT
END:VCALENDAR