BEGIN:VCALENDAR
VERSION:2.0
PRODID:-//NSPS - ECPv6.15.17.1//NONSGML v1.0//EN
CALSCALE:GREGORIAN
METHOD:PUBLISH
X-WR-CALNAME:NSPS
X-ORIGINAL-URL:https://shetlandponystamboek.nl
X-WR-CALDESC:Evenementen voor NSPS
REFRESH-INTERVAL;VALUE=DURATION:PT1H
X-Robots-Tag:noindex
X-PUBLISHED-TTL:PT1H
BEGIN:VTIMEZONE
TZID:Europe/Amsterdam
BEGIN:DAYLIGHT
TZOFFSETFROM:+0100
TZOFFSETTO:+0200
TZNAME:CEST
DTSTART:20210328T010000
END:DAYLIGHT
BEGIN:STANDARD
TZOFFSETFROM:+0200
TZOFFSETTO:+0100
TZNAME:CET
DTSTART:20211031T010000
END:STANDARD
BEGIN:DAYLIGHT
TZOFFSETFROM:+0100
TZOFFSETTO:+0200
TZNAME:CEST
DTSTART:20220327T010000
END:DAYLIGHT
BEGIN:STANDARD
TZOFFSETFROM:+0200
TZOFFSETTO:+0100
TZNAME:CET
DTSTART:20221030T010000
END:STANDARD
BEGIN:DAYLIGHT
TZOFFSETFROM:+0100
TZOFFSETTO:+0200
TZNAME:CEST
DTSTART:20230326T010000
END:DAYLIGHT
BEGIN:STANDARD
TZOFFSETFROM:+0200
TZOFFSETTO:+0100
TZNAME:CET
DTSTART:20231029T010000
END:STANDARD
BEGIN:DAYLIGHT
TZOFFSETFROM:+0100
TZOFFSETTO:+0200
TZNAME:CEST
DTSTART:20240331T010000
END:DAYLIGHT
BEGIN:STANDARD
TZOFFSETFROM:+0200
TZOFFSETTO:+0100
TZNAME:CET
DTSTART:20241027T010000
END:STANDARD
BEGIN:DAYLIGHT
TZOFFSETFROM:+0100
TZOFFSETTO:+0200
TZNAME:CEST
DTSTART:20250330T010000
END:DAYLIGHT
BEGIN:STANDARD
TZOFFSETFROM:+0200
TZOFFSETTO:+0100
TZNAME:CET
DTSTART:20251026T010000
END:STANDARD
BEGIN:DAYLIGHT
TZOFFSETFROM:+0100
TZOFFSETTO:+0200
TZNAME:CEST
DTSTART:20260329T010000
END:DAYLIGHT
BEGIN:STANDARD
TZOFFSETFROM:+0200
TZOFFSETTO:+0100
TZNAME:CET
DTSTART:20261025T010000
END:STANDARD
BEGIN:DAYLIGHT
TZOFFSETFROM:+0100
TZOFFSETTO:+0200
TZNAME:CEST
DTSTART:20270328T010000
END:DAYLIGHT
BEGIN:STANDARD
TZOFFSETFROM:+0200
TZOFFSETTO:+0100
TZNAME:CET
DTSTART:20271031T010000
END:STANDARD
END:VTIMEZONE
BEGIN:VEVENT
DTSTART;TZID=Europe/Amsterdam:20260314T080000
DTEND;TZID=Europe/Amsterdam:20260314T170000
DTSTAMP:20260420T230946
CREATED:20260129T103526Z
LAST-MODIFIED:20260129T103526Z
UID:30065-1773475200-1773507600@shetlandponystamboek.nl
SUMMARY:Indoor Wedstrijddag in Overasselt
DESCRIPTION:
URL:https://shetlandponystamboek.nl/evenement/indoor-wedstrijddag-in-overasselt/
LOCATION:Manege St. Waldrick\, Ewijkseweg 13\, Overasselt\, 6611AG\, Nederland
CATEGORIES:Sport en Recreatie
END:VEVENT
BEGIN:VEVENT
DTSTART;TZID=Europe/Amsterdam:20251101T100000
DTEND;TZID=Europe/Amsterdam:20251101T170000
DTSTAMP:20260420T230946
CREATED:20250116T104821Z
LAST-MODIFIED:20251006T112035Z
UID:26845-1761991200-1762016400@shetlandponystamboek.nl
SUMMARY:Concours Tolbert NSPS
DESCRIPTION:
URL:https://shetlandponystamboek.nl/evenement/concours-tolbert-nsps-2/
LOCATION:HJC-Manege\, Hoofdstraat 53\, Tolbert\, 9356AV\, Nederland
CATEGORIES:Sport en Recreatie
END:VEVENT
BEGIN:VEVENT
DTSTART;VALUE=DATE:20251011
DTEND;VALUE=DATE:20251012
DTSTAMP:20260420T230946
CREATED:20250901T131219Z
LAST-MODIFIED:20250901T131219Z
UID:28931-1760140800-1760227199@shetlandponystamboek.nl
SUMMARY:52e Nationale Indoor Shetland Pony Wedstrijddag
DESCRIPTION:Vraagprogramma 52e Nationale Indoor Shetland Pony Wedstrijddag
URL:https://shetlandponystamboek.nl/evenement/52e-nationale-indoor-shetland-pony-wedstrijddag/
CATEGORIES:Sport en Recreatie
END:VEVENT
BEGIN:VEVENT
DTSTART;TZID=Europe/Amsterdam:20250831T080000
DTEND;TZID=Europe/Amsterdam:20250831T170000
DTSTAMP:20260420T230946
CREATED:20250116T104600Z
LAST-MODIFIED:20250116T104600Z
UID:26839-1756627200-1756659600@shetlandponystamboek.nl
SUMMARY:Concours Lingezegen in Elst
DESCRIPTION:
URL:https://shetlandponystamboek.nl/evenement/concours-lingezegen-in-elst/
CATEGORIES:Sport en Recreatie
END:VEVENT
BEGIN:VEVENT
DTSTART;TZID=Europe/Amsterdam:20250808T080000
DTEND;TZID=Europe/Amsterdam:20250810T170000
DTSTAMP:20260420T230946
CREATED:20250116T104451Z
LAST-MODIFIED:20250116T104451Z
UID:26837-1754640000-1754845200@shetlandponystamboek.nl
SUMMARY:Internationale Shetland Pony Show Frankrijk
DESCRIPTION:
URL:https://shetlandponystamboek.nl/evenement/internationale-shetland-pony-show-frankrijk/
CATEGORIES:Sport en Recreatie
END:VEVENT
BEGIN:VEVENT
DTSTART;TZID=Europe/Amsterdam:20250719T080000
DTEND;TZID=Europe/Amsterdam:20250719T170000
DTSTAMP:20260420T230946
CREATED:20250116T103430Z
LAST-MODIFIED:20250508T061826Z
UID:26835-1752912000-1752944400@shetlandponystamboek.nl
SUMMARY:Concours de Gouden Bolhoed Houten -met NK dubbelspan
DESCRIPTION:
URL:https://shetlandponystamboek.nl/evenement/concours-de-gouden-bolhoed-houten-met-nk-dames/
CATEGORIES:Sport en Recreatie
END:VEVENT
BEGIN:VEVENT
DTSTART;TZID=Europe/Amsterdam:20250628T080000
DTEND;TZID=Europe/Amsterdam:20250628T170000
DTSTAMP:20260420T230946
CREATED:20250116T103325Z
LAST-MODIFIED:20250508T061806Z
UID:26832-1751097600-1751130000@shetlandponystamboek.nl
SUMMARY:Outdoor wedstrijddag NSPS Bunschoten - met NK dames
DESCRIPTION:
URL:https://shetlandponystamboek.nl/evenement/outdoor-wedstrijddag-nsps-bunschoten-2/
CATEGORIES:Sport en Recreatie
END:VEVENT
BEGIN:VEVENT
DTSTART;TZID=Europe/Amsterdam:20250525T080000
DTEND;TZID=Europe/Amsterdam:20250525T170000
DTSTAMP:20260420T230946
CREATED:20250116T103028Z
LAST-MODIFIED:20250116T103028Z
UID:26830-1748160000-1748192400@shetlandponystamboek.nl
SUMMARY:RAD-Gala Tilburg
DESCRIPTION:
URL:https://shetlandponystamboek.nl/evenement/rad-gala-tilburg/
CATEGORIES:Sport en Recreatie
END:VEVENT
BEGIN:VEVENT
DTSTART;TZID=Europe/Amsterdam:20250426T080000
DTEND;TZID=Europe/Amsterdam:20250426T170000
DTSTAMP:20260420T230946
CREATED:20250116T102842Z
LAST-MODIFIED:20250116T102849Z
UID:26826-1745654400-1745686800@shetlandponystamboek.nl
SUMMARY:Oranjeconcours in De Bilt
DESCRIPTION:
URL:https://shetlandponystamboek.nl/evenement/oranjeconcours-in-de-bilt-2/
CATEGORIES:Sport en Recreatie
END:VEVENT
BEGIN:VEVENT
DTSTART;VALUE=DATE:20250412
DTEND;VALUE=DATE:20250413
DTSTAMP:20260420T230946
CREATED:20241202T194455Z
LAST-MODIFIED:20241202T194507Z
UID:26305-1744416000-1744502399@shetlandponystamboek.nl
SUMMARY:Indoor Shetlanddag Overasselt
DESCRIPTION:
URL:https://shetlandponystamboek.nl/evenement/indoor-shetlanddag/
LOCATION:Manege St. Waldrick\, Ewijkseweg 13\, Overasselt\, 6611AG\, Nederland
CATEGORIES:Sport en Recreatie
END:VEVENT
BEGIN:VEVENT
DTSTART;TZID=Europe/Amsterdam:20241116T100000
DTEND;TZID=Europe/Amsterdam:20241116T120000
DTSTAMP:20260420T230946
CREATED:20240125T090331Z
LAST-MODIFIED:20241107T091152Z
UID:24366-1731751200-1731758400@shetlandponystamboek.nl
SUMMARY:ABOP
DESCRIPTION:
URL:https://shetlandponystamboek.nl/evenement/abop-2/
LOCATION:Manege St. Waldrick\, Ewijkseweg 13\, Overasselt\, 6611AG\, Nederland
CATEGORIES:Sport en Recreatie
END:VEVENT
BEGIN:VEVENT
DTSTART;TZID=Europe/Amsterdam:20241102T080000
DTEND;TZID=Europe/Amsterdam:20241102T170000
DTSTAMP:20260420T230946
CREATED:20240125T090247Z
LAST-MODIFIED:20240125T090247Z
UID:24364-1730534400-1730566800@shetlandponystamboek.nl
SUMMARY:Concours Tolbert NSPS
DESCRIPTION:
URL:https://shetlandponystamboek.nl/evenement/concours-tolbert-nsps/
CATEGORIES:Sport en Recreatie
END:VEVENT
BEGIN:VEVENT
DTSTART;TZID=Europe/Amsterdam:20241019T083000
DTEND;TZID=Europe/Amsterdam:20241019T170000
DTSTAMP:20260420T230946
CREATED:20240226T092708Z
LAST-MODIFIED:20241008T081904Z
UID:24596-1729326600-1729357200@shetlandponystamboek.nl
SUMMARY:Nederlandse kampioenschappen- Met NK enkelspan
DESCRIPTION:
URL:https://shetlandponystamboek.nl/evenement/nederlandse-kampioenschappen-met-nk-enkelspan/
LOCATION:Manege de Nieuwe Heuvel\, Oude Arnhemseweg 101\, Lunteren\, Gelderland\, 6741EC\, Nederland
CATEGORIES:Keuringen,Sport en Recreatie
END:VEVENT
BEGIN:VEVENT
DTSTART;TZID=Europe/Amsterdam:20240720T080000
DTEND;TZID=Europe/Amsterdam:20240720T170000
DTSTAMP:20260420T230946
CREATED:20240125T084151Z
LAST-MODIFIED:20240711T153143Z
UID:24358-1721462400-1721494800@shetlandponystamboek.nl
SUMMARY:Concours de Gouden Bolhoed Houten
DESCRIPTION:Programma De Gouden Bolhoed 2024 \n09.25 uur    Eenspannen Hackney?s Lage Limiet (kleine maat\n09.45 uur    Eenspannen Tuigpaarden Kleine Limiet .\n10.00 uur    Eenspannen Shetlanders( Groep 1)\n10.15.uur    Eenspannen Hackney?s Hoge Limiet ( kleine maat)\n10.30 uur    Eenspannen Tuigpaarden Grote Limiet\n10.45 uur    Eenspannen Shetlanders (Groep 2)\n11.00 uur    Eenspannen Tuigpaarden Competitie Nationaal\n11.15 uur    Eenspannen Hackney?s Limietklasse (grote maat)\n11.30 uur   Tweespannen Shetlanders .\n11.45 uur   Tweespannen Tuigpaarden Limiet Competitie\n12.00 uur   Eenspannen Hackney?s Open Klasse (grote maat)\n12.15 uur   Pauze\n13.00 uur   Eenspannen Hackney?s Ereklasse (kleine maat\n13\,15 uur   Eenspannen Tuigpaarden Ereklasse\n13.30 uur   Carrousel Zilfia/s Hoeve\n13.50 uur   Opfrissen Bak\n14.00 uur   Kampioenschap Young riders Tuig[paarden\n14.20 uur   Kampioenschap Eenspannen Shetlanders \n                     Gereden door Dames\n14.35 uur   Kampioenschap 5- Jarige Tuigpaarden\n14.50 uur   Huldiging Kampioenen.\n15.00 uur   Tweespannen Hackney\n15.15.uur   Eenspannen Tuigpaarden Gereden door Dames 2 Wielig\n15.30 uur   Eenspannen Hackney?s Gereden Door Dames (kleine en grote maat) 2 wielig\n15.45 uur   Verloting/ sleep\n16.00 uur   Tweespan Tuigpaarden Ereklasse\n16.15 uur   De Gouden Bolhoed Tuigpaarden
URL:https://shetlandponystamboek.nl/evenement/concours-de-gouden-bolhoed-bunschoten/
CATEGORIES:Sport en Recreatie
END:VEVENT
BEGIN:VEVENT
DTSTART;TZID=Europe/Amsterdam:20240707T080000
DTEND;TZID=Europe/Amsterdam:20240707T170000
DTSTAMP:20260420T230946
CREATED:20240125T082913Z
LAST-MODIFIED:20240528T081750Z
UID:24350-1720339200-1720371600@shetlandponystamboek.nl
SUMMARY:RAD-gala in Tilburg
DESCRIPTION:
URL:https://shetlandponystamboek.nl/evenement/rad-gala-in-tilburg/
CATEGORIES:Sport en Recreatie
END:VEVENT
BEGIN:VEVENT
DTSTART;TZID=Europe/Amsterdam:20240706T080000
DTEND;TZID=Europe/Amsterdam:20240706T170000
DTSTAMP:20260420T230946
CREATED:20240125T084034Z
LAST-MODIFIED:20240125T084034Z
UID:24356-1720252800-1720285200@shetlandponystamboek.nl
SUMMARY:Concours Wijnjewoude
DESCRIPTION:
URL:https://shetlandponystamboek.nl/evenement/concours-wijnjewoude/
CATEGORIES:Sport en Recreatie
END:VEVENT
BEGIN:VEVENT
DTSTART;TZID=Europe/Amsterdam:20240630T080000
DTEND;TZID=Europe/Amsterdam:20240630T170000
DTSTAMP:20260420T230946
CREATED:20240125T083827Z
LAST-MODIFIED:20240125T084444Z
UID:24354-1719734400-1719766800@shetlandponystamboek.nl
SUMMARY:Concours Zijtaart (Veghel)
DESCRIPTION:
URL:https://shetlandponystamboek.nl/evenement/concours-zijtaart-veghel/
CATEGORIES:Sport en Recreatie
END:VEVENT
BEGIN:VEVENT
DTSTART;TZID=Europe/Amsterdam:20240615T080000
DTEND;TZID=Europe/Amsterdam:20240615T170000
DTSTAMP:20260420T230946
CREATED:20240125T083651Z
LAST-MODIFIED:20240125T083651Z
UID:24352-1718438400-1718470800@shetlandponystamboek.nl
SUMMARY:Outdoor wedstrijddag NSPS Bunschoten
DESCRIPTION:
URL:https://shetlandponystamboek.nl/evenement/outdoor-wedstrijddag-nsps-bunschoten/
CATEGORIES:Sport en Recreatie
END:VEVENT
BEGIN:VEVENT
DTSTART;TZID=Europe/Amsterdam:20240427T080000
DTEND;TZID=Europe/Amsterdam:20240427T170000
DTSTAMP:20260420T230946
CREATED:20240125T082623Z
LAST-MODIFIED:20240125T082623Z
UID:24348-1714204800-1714237200@shetlandponystamboek.nl
SUMMARY:Oranjeconcours in De Bilt
DESCRIPTION:
URL:https://shetlandponystamboek.nl/evenement/oranjeconcours-in-de-bilt/
CATEGORIES:Sport en Recreatie
END:VEVENT
BEGIN:VEVENT
DTSTART;TZID=Europe/Amsterdam:20240323T080000
DTEND;TZID=Europe/Amsterdam:20240323T170000
DTSTAMP:20260420T230946
CREATED:20240125T082042Z
LAST-MODIFIED:20240125T082501Z
UID:24346-1711180800-1711213200@shetlandponystamboek.nl
SUMMARY:50e Indoor Wedstrijddag
DESCRIPTION:Locatie volgt
URL:https://shetlandponystamboek.nl/evenement/50e-indoor-wedstrijddag/
CATEGORIES:Sport en Recreatie
END:VEVENT
BEGIN:VEVENT
DTSTART;TZID=Europe/Amsterdam:20230513T103000
DTEND;TZID=Europe/Amsterdam:20230513T160000
DTSTAMP:20260420T230946
CREATED:20230414T134559Z
LAST-MODIFIED:20230414T134559Z
UID:22517-1683973800-1683993600@shetlandponystamboek.nl
SUMMARY:Clinic concoursrijden
DESCRIPTION:
URL:https://shetlandponystamboek.nl/evenement/clinic-concoursrijden/
LOCATION:Manege de Nieuwe Heuvel\, Oude Arnhemseweg 101\, Lunteren\, Gelderland\, 6741EC\, Nederland
CATEGORIES:Sport en Recreatie
END:VEVENT
BEGIN:VEVENT
DTSTART;TZID=Europe/Amsterdam:20230427T113000
DTEND;TZID=Europe/Amsterdam:20230427T170000
DTSTAMP:20260420T230946
CREATED:20221215T142856Z
LAST-MODIFIED:20221215T142907Z
UID:21738-1682595000-1682614800@shetlandponystamboek.nl
SUMMARY:Oranjeconcours de Bilt
DESCRIPTION:Aangespannen rubrieken
URL:https://shetlandponystamboek.nl/evenement/oranjeconcours-de-bilt-6/
LOCATION:De Bilt\, Soestdijkseweg Zuid\,  Bilthoven\, Nederland
CATEGORIES:Sport en Recreatie
END:VEVENT
BEGIN:VEVENT
DTSTART;VALUE=DATE:20221105
DTEND;VALUE=DATE:20221106
DTSTAMP:20260420T230946
CREATED:20220310T122055Z
LAST-MODIFIED:20220310T122055Z
UID:19814-1667606400-1667692799@shetlandponystamboek.nl
SUMMARY:Jurydag gebruik Tolbert
DESCRIPTION:
URL:https://shetlandponystamboek.nl/evenement/jurydag-gebruik-tolbert/
LOCATION:HJC-Manege\, Hoofdstraat 53\, Tolbert\, 9356AV\, Nederland
CATEGORIES:Sport en Recreatie
END:VEVENT
BEGIN:VEVENT
DTSTART;VALUE=DATE:20221029
DTEND;VALUE=DATE:20221030
DTSTAMP:20260420T230946
CREATED:20220331T103333Z
LAST-MODIFIED:20220331T103333Z
UID:19879-1667001600-1667087999@shetlandponystamboek.nl
SUMMARY:Indoor Shetlandpony-wedstrijddag
DESCRIPTION:
URL:https://shetlandponystamboek.nl/evenement/indoor-shetlandpony-wedstrijddag/
LOCATION:Manege Rust Roest\, Past. Roesweg 45\, Maren Kessel\, 5398HZ\, Nederland
CATEGORIES:Sport en Recreatie
END:VEVENT
BEGIN:VEVENT
DTSTART;VALUE=DATE:20221001
DTEND;VALUE=DATE:20221002
DTSTAMP:20260420T230946
CREATED:20220331T103745Z
LAST-MODIFIED:20220331T104204Z
UID:19881-1664582400-1664668799@shetlandponystamboek.nl
SUMMARY:Concours Rubrieken Heteren
DESCRIPTION:
URL:https://shetlandponystamboek.nl/evenement/concours-rubrieken-heteren/
LOCATION:Manege de Fruithof\, Dorpsstraat 5\, Heteren\, 6666AE
CATEGORIES:Sport en Recreatie
END:VEVENT
BEGIN:VEVENT
DTSTART;VALUE=DATE:20220924
DTEND;VALUE=DATE:20220925
DTSTAMP:20260420T230946
CREATED:20220310T121922Z
LAST-MODIFIED:20220310T121922Z
UID:19812-1663977600-1664063999@shetlandponystamboek.nl
SUMMARY:Indoor Tolbert
DESCRIPTION:Shetland tuigrubrieken
URL:https://shetlandponystamboek.nl/evenement/indoor-tolbert-2/
LOCATION:HJC-Manege\, Hoofdstraat 53\, Tolbert\, 9356AV\, Nederland
CATEGORIES:Sport en Recreatie
END:VEVENT
BEGIN:VEVENT
DTSTART;VALUE=DATE:20220716
DTEND;VALUE=DATE:20220717
DTSTAMP:20260420T230946
CREATED:20220310T121754Z
LAST-MODIFIED:20220310T121806Z
UID:19810-1657929600-1658015999@shetlandponystamboek.nl
SUMMARY:Nationaal Concours de Gouden Bolhoed Houten
DESCRIPTION:Shetland tuigrubrieken
URL:https://shetlandponystamboek.nl/evenement/nationaal-concours-de-gouden-bolhoed-houten/
LOCATION:Zilfia’s Hoeve\, Fortweg 13\, Houten\, 3992LX
CATEGORIES:Sport en Recreatie
END:VEVENT
BEGIN:VEVENT
DTSTART;TZID=Europe/Amsterdam:20220625T090000
DTEND;TZID=Europe/Amsterdam:20220625T163000
DTSTAMP:20260420T230946
CREATED:20220310T121226Z
LAST-MODIFIED:20220614T201139Z
UID:19805-1656147600-1656174600@shetlandponystamboek.nl
SUMMARY:Wedstrijddag Heteren
DESCRIPTION:
URL:https://shetlandponystamboek.nl/evenement/wedstrijddag-heteren-3/
LOCATION:Manege de Fruithof\, Dorpsstraat 5\, Heteren\, 6666AE
CATEGORIES:Sport en Recreatie
END:VEVENT
BEGIN:VEVENT
DTSTART;VALUE=DATE:20220427
DTEND;VALUE=DATE:20220428
DTSTAMP:20260420T230946
CREATED:20220310T121433Z
LAST-MODIFIED:20220310T121433Z
UID:19808-1651017600-1651103999@shetlandponystamboek.nl
SUMMARY:Oranjeconcours de Bilt
DESCRIPTION:Shetland tuigrubrieken
URL:https://shetlandponystamboek.nl/evenement/oranjeconcours-de-bilt-5/
LOCATION:De Bilt\, Soestdijkseweg Zuid\,  Bilthoven\, Nederland
CATEGORIES:Sport en Recreatie
END:VEVENT
BEGIN:VEVENT
DTSTART;TZID=Europe/Amsterdam:20220316T200000
DTEND;TZID=Europe/Amsterdam:20220316T220000
DTSTAMP:20260420T230946
CREATED:20220310T123020Z
LAST-MODIFIED:20220310T125246Z
UID:19816-1647460800-1647468000@shetlandponystamboek.nl
SUMMARY:Rijdersbijeenkomst gebruik Lunteren
DESCRIPTION:
URL:https://shetlandponystamboek.nl/evenement/rijdersbijeenkomst-gebruik-lunteren/
LOCATION:Manege de Nieuwe Heuvel\, Oude Arnhemseweg 101\, Lunteren\, Gelderland\, 6741EC\, Nederland
CATEGORIES:Sport en Recreatie
END:VEVENT
END:VCALENDAR