BEGIN:VCALENDAR
VERSION:2.0
PRODID:-//NSPS - ECPv6.15.17.1//NONSGML v1.0//EN
CALSCALE:GREGORIAN
METHOD:PUBLISH
X-WR-CALNAME:NSPS
X-ORIGINAL-URL:https://shetlandponystamboek.nl
X-WR-CALDESC:Evenementen voor NSPS
REFRESH-INTERVAL;VALUE=DURATION:PT1H
X-Robots-Tag:noindex
X-PUBLISHED-TTL:PT1H
BEGIN:VTIMEZONE
TZID:Europe/Amsterdam
BEGIN:DAYLIGHT
TZOFFSETFROM:+0100
TZOFFSETTO:+0200
TZNAME:CEST
DTSTART:20250330T010000
END:DAYLIGHT
BEGIN:STANDARD
TZOFFSETFROM:+0200
TZOFFSETTO:+0100
TZNAME:CET
DTSTART:20251026T010000
END:STANDARD
BEGIN:DAYLIGHT
TZOFFSETFROM:+0100
TZOFFSETTO:+0200
TZNAME:CEST
DTSTART:20260329T010000
END:DAYLIGHT
BEGIN:STANDARD
TZOFFSETFROM:+0200
TZOFFSETTO:+0100
TZNAME:CET
DTSTART:20261025T010000
END:STANDARD
BEGIN:DAYLIGHT
TZOFFSETFROM:+0100
TZOFFSETTO:+0200
TZNAME:CEST
DTSTART:20270328T010000
END:DAYLIGHT
BEGIN:STANDARD
TZOFFSETFROM:+0200
TZOFFSETTO:+0100
TZNAME:CET
DTSTART:20271031T010000
END:STANDARD
END:VTIMEZONE
BEGIN:VEVENT
DTSTART;TZID=Europe/Amsterdam:20260919T080000
DTEND;TZID=Europe/Amsterdam:20260919T170000
DTSTAMP:20260423T065053
CREATED:20260409T132047Z
LAST-MODIFIED:20260409T132047Z
UID:30488-1789804800-1789837200@shetlandponystamboek.nl
SUMMARY:Premiekeuring Meerkerk en Omstreken
DESCRIPTION:
URL:https://shetlandponystamboek.nl/evenement/premiekeuring-meerkerk-en-omstreken-6/
LOCATION:Terrein Fokveedag\, Dorpsstraat\, Hoornaar
CATEGORIES:Keuringen
END:VEVENT
BEGIN:VEVENT
DTSTART;TZID=Europe/Amsterdam:20260926T080000
DTEND;TZID=Europe/Amsterdam:20260926T170000
DTSTAMP:20260423T065053
CREATED:20260409T132124Z
LAST-MODIFIED:20260409T132124Z
UID:30490-1790409600-1790442000@shetlandponystamboek.nl
SUMMARY:Premiekeuring Maas en Waal en Rijk van Nijmegen
DESCRIPTION:
URL:https://shetlandponystamboek.nl/evenement/premiekeuring-maas-en-waal-en-rijk-van-nijmegen-6/
LOCATION:Manege de Rijhal\, Dorpsstraat 13\, Bergharen\, 6617 AB
CATEGORIES:Keuringen
END:VEVENT
BEGIN:VEVENT
DTSTART;TZID=Europe/Amsterdam:20260926T080000
DTEND;TZID=Europe/Amsterdam:20260926T170000
DTSTAMP:20260423T065053
CREATED:20260409T132155Z
LAST-MODIFIED:20260409T132155Z
UID:30492-1790409600-1790442000@shetlandponystamboek.nl
SUMMARY:Premiekeuring Oost-Veluwe
DESCRIPTION:
URL:https://shetlandponystamboek.nl/evenement/premiekeuring-oost-veluwe-6/
LOCATION:Manege Oranjehal\, Bentweideweg 25 (Apeldoorn-Noord)\, Wenum Wiesel\, 7345AL\, Nederland
CATEGORIES:Keuringen
END:VEVENT
BEGIN:VEVENT
DTSTART;TZID=Europe/Amsterdam:20261003T080000
DTEND;TZID=Europe/Amsterdam:20261003T170000
DTSTAMP:20260423T065053
CREATED:20260409T132229Z
LAST-MODIFIED:20260409T132229Z
UID:30494-1791014400-1791046800@shetlandponystamboek.nl
SUMMARY:Premiekeuring Midden-Betuwe
DESCRIPTION:
URL:https://shetlandponystamboek.nl/evenement/premiekeuring-midden-betuwe-6/
LOCATION:Manege Agnietenhof\, Rijksweg Noord 125\, Elst\, Gelderland\, 6661KE\, Nederland
CATEGORIES:Keuringen
END:VEVENT
BEGIN:VEVENT
DTSTART;TZID=Europe/Amsterdam:20261006T080000
DTEND;TZID=Europe/Amsterdam:20261006T170000
DTSTAMP:20260423T065053
CREATED:20260409T132305Z
LAST-MODIFIED:20260409T132305Z
UID:30496-1791273600-1791306000@shetlandponystamboek.nl
SUMMARY:Nakeuring Norg (alleen PK)
DESCRIPTION:
URL:https://shetlandponystamboek.nl/evenement/nakeuring-norg-alleen-pk/
LOCATION:Manege Norg\, Kerkpad 4\, Norg
CATEGORIES:Keuringen
END:VEVENT
BEGIN:VEVENT
DTSTART;TZID=Europe/Amsterdam:20261008T080000
DTEND;TZID=Europe/Amsterdam:20261008T170000
DTSTAMP:20260423T065053
CREATED:20260409T132338Z
LAST-MODIFIED:20260409T132338Z
UID:30498-1791446400-1791478800@shetlandponystamboek.nl
SUMMARY:Nakeuring Someren (alleen PK)
DESCRIPTION:
URL:https://shetlandponystamboek.nl/evenement/nakeuring-someren-alleen-pk/
LOCATION:Manege het Keelven\, Kuilvenweg 4\, Someren\, 5712 GX\, Nederland
CATEGORIES:Keuringen
END:VEVENT
BEGIN:VEVENT
DTSTART;TZID=Europe/Amsterdam:20261010T080000
DTEND;TZID=Europe/Amsterdam:20261010T170000
DTSTAMP:20260423T065053
CREATED:20260409T132420Z
LAST-MODIFIED:20260409T132420Z
UID:30500-1791619200-1791651600@shetlandponystamboek.nl
SUMMARY:Nakeuring Elst (S-opname en PK)
DESCRIPTION:
URL:https://shetlandponystamboek.nl/evenement/nakeuring-elst-s-opname-en-pk/
CATEGORIES:Keuringen
END:VEVENT
BEGIN:VEVENT
DTSTART;TZID=Europe/Amsterdam:20261017T080000
DTEND;TZID=Europe/Amsterdam:20261017T170000
DTSTAMP:20260423T065053
CREATED:20260409T132449Z
LAST-MODIFIED:20260409T132449Z
UID:30502-1792224000-1792256400@shetlandponystamboek.nl
SUMMARY:Nationaal kampioenschap
DESCRIPTION:
URL:https://shetlandponystamboek.nl/evenement/nationaal-kampioenschap-3/
LOCATION:Manege de Nieuwe Heuvel\, Oude Arnhemseweg 101\, Lunteren\, Gelderland\, 6741EC\, Nederland
CATEGORIES:Keuringen
END:VEVENT
END:VCALENDAR