BEGIN:VCALENDAR
VERSION:2.0
PRODID:-//NSPS - ECPv6.15.17.1//NONSGML v1.0//EN
CALSCALE:GREGORIAN
METHOD:PUBLISH
X-WR-CALNAME:NSPS
X-ORIGINAL-URL:https://shetlandponystamboek.nl
X-WR-CALDESC:Evenementen voor NSPS
REFRESH-INTERVAL;VALUE=DURATION:PT1H
X-Robots-Tag:noindex
X-PUBLISHED-TTL:PT1H
BEGIN:VTIMEZONE
TZID:Europe/Amsterdam
BEGIN:DAYLIGHT
TZOFFSETFROM:+0100
TZOFFSETTO:+0200
TZNAME:CEST
DTSTART:20250330T010000
END:DAYLIGHT
BEGIN:STANDARD
TZOFFSETFROM:+0200
TZOFFSETTO:+0100
TZNAME:CET
DTSTART:20251026T010000
END:STANDARD
BEGIN:DAYLIGHT
TZOFFSETFROM:+0100
TZOFFSETTO:+0200
TZNAME:CEST
DTSTART:20260329T010000
END:DAYLIGHT
BEGIN:STANDARD
TZOFFSETFROM:+0200
TZOFFSETTO:+0100
TZNAME:CET
DTSTART:20261025T010000
END:STANDARD
BEGIN:DAYLIGHT
TZOFFSETFROM:+0100
TZOFFSETTO:+0200
TZNAME:CEST
DTSTART:20270328T010000
END:DAYLIGHT
BEGIN:STANDARD
TZOFFSETFROM:+0200
TZOFFSETTO:+0100
TZNAME:CET
DTSTART:20271031T010000
END:STANDARD
END:VTIMEZONE
BEGIN:VEVENT
DTSTART;TZID=Europe/Amsterdam:20260411T090000
DTEND;TZID=Europe/Amsterdam:20260411T110000
DTSTAMP:20260424T100947
CREATED:20260205T111110Z
LAST-MODIFIED:20260205T111110Z
UID:30152-1775898000-1775905200@shetlandponystamboek.nl
SUMMARY:Stamboekopname Onstwedde
DESCRIPTION:
URL:https://shetlandponystamboek.nl/evenement/stamboekopname-onstwedde-5/
LOCATION:Manege de Driesporen\, Wessinghuizerweg 4B\, Onstwedde\, 9591VJ\, Nederland
CATEGORIES:Stamboekopname
END:VEVENT
BEGIN:VEVENT
DTSTART;TZID=Europe/Amsterdam:20260411T090000
DTEND;TZID=Europe/Amsterdam:20260411T120000
DTSTAMP:20260424T100947
CREATED:20260205T110509Z
LAST-MODIFIED:20260205T110509Z
UID:30145-1775898000-1775908800@shetlandponystamboek.nl
SUMMARY:Stamboekopname Rijsenhout
DESCRIPTION:
URL:https://shetlandponystamboek.nl/evenement/stamboekopname-rijsenhout-5/
LOCATION:Stal v.d. Valkenhof\, Aalsmeerderweg 861 (Poort 'Bak' is de toegangspoort)\, Rijssenhout\, 1435EP
CATEGORIES:Stamboekopname
END:VEVENT
BEGIN:VEVENT
DTSTART;TZID=Europe/Amsterdam:20260411T123000
DTEND;TZID=Europe/Amsterdam:20260411T143000
DTSTAMP:20260424T100947
CREATED:20260205T111156Z
LAST-MODIFIED:20260205T111223Z
UID:30154-1775910600-1775917800@shetlandponystamboek.nl
SUMMARY:Stamboekopname Tolbert
DESCRIPTION:
URL:https://shetlandponystamboek.nl/evenement/stamboekopname-tolbert-5/
LOCATION:HJC-Manege\, Hoofdstraat 53\, Tolbert\, 9356AV\, Nederland
CATEGORIES:Stamboekopname
END:VEVENT
BEGIN:VEVENT
DTSTART;TZID=Europe/Amsterdam:20260411T130000
DTEND;TZID=Europe/Amsterdam:20260411T140000
DTSTAMP:20260424T100947
CREATED:20260205T110911Z
LAST-MODIFIED:20260205T110911Z
UID:30147-1775912400-1775916000@shetlandponystamboek.nl
SUMMARY:Stamboekopname Utrecht
DESCRIPTION:Birkstraat 109\, 3768\nHD Soest\, Ingang\nterrein: via Peter v.\nden Breemerweg\ntegenover nr. 7
URL:https://shetlandponystamboek.nl/evenement/stamboekopname-utrecht/
LOCATION:Birkstraat 109\, Birkstraat 109\, Soest\, 3768hd
CATEGORIES:Stamboekopname
END:VEVENT
BEGIN:VEVENT
DTSTART;TZID=Europe/Amsterdam:20260411T150000
DTEND;TZID=Europe/Amsterdam:20260411T170000
DTSTAMP:20260424T100947
CREATED:20260205T111027Z
LAST-MODIFIED:20260205T111027Z
UID:30150-1775919600-1775926800@shetlandponystamboek.nl
SUMMARY:Stamboekopname Kootwijkerbroek
DESCRIPTION:
URL:https://shetlandponystamboek.nl/evenement/stamboekopname-kootwijkerbroek-4/
LOCATION:Fam. v.d. Berg\, Esvelderweg 16\, Kootwijkerbroek\, 3774PD
CATEGORIES:Stamboekopname
END:VEVENT
BEGIN:VEVENT
DTSTART;TZID=Europe/Amsterdam:20260411T153000
DTEND;TZID=Europe/Amsterdam:20260411T170000
DTSTAMP:20260424T100947
CREATED:20260205T111302Z
LAST-MODIFIED:20260205T111302Z
UID:30156-1775921400-1775926800@shetlandponystamboek.nl
SUMMARY:Stamboekopname Hemrik
DESCRIPTION:
URL:https://shetlandponystamboek.nl/evenement/stamboekopname-hemrik-2/
LOCATION:Stoeterij het Swarte Peart\, Binnenwei 13A\, Hemrik\, 8409JG
CATEGORIES:Stamboekopname
END:VEVENT
END:VCALENDAR